BEGIN:VCALENDAR
VERSION:2.0
PRODID:icalendar-ruby
CALSCALE:GREGORIAN
METHOD:PUBLISH
BEGIN:VEVENT
DTSTAMP:20260426T015632Z
UID:120-454684@lifechurchmv.com
DTSTART:20260930T003000Z
DTEND:20260930T023000Z
CLASS:PUBLIC
CREATED:20260425T184259
DESCRIPTION:
LAST-MODIFIED:20260425T184259
LOCATION:LC Youth room 
SUMMARY:LC Youth
URL;VALUE=URI:https://lifechurchmv.com/events/lc-youth/2026-09-29
ATTACH;FILENAME=youth-logo.png;FMTTYPE=image/png:https://dq5pwpg1q8ru0.clou
 dfront.net/2024/07/23/16/40/53/bd0fe6e5-5e4a-4f89-b5a6-7255c27e6a3b/youth-
 logo.png
END:VEVENT
END:VCALENDAR
